BEGIN:VCALENDAR
VERSION:2.0
PRODID:-//VoxFeminae - ECPv6.14.2//NONSGML v1.0//EN
CALSCALE:GREGORIAN
METHOD:PUBLISH
X-WR-CALNAME:VoxFeminae
X-ORIGINAL-URL:https://voxfeminae.is
X-WR-CALDESC:Events for VoxFeminae
REFRESH-INTERVAL;VALUE=DURATION:PT1H
X-Robots-Tag:noindex
X-PUBLISHED-TTL:PT1H
BEGIN:VTIMEZONE
TZID:UTC
BEGIN:STANDARD
TZOFFSETFROM:+0000
TZOFFSETTO:+0000
TZNAME:UTC
DTSTART:20210101T000000
END:STANDARD
END:VTIMEZONE
BEGIN:VEVENT
DTSTART;TZID=UTC:20211011T200000
DTEND;TZID=UTC:20211011T210000
DTSTAMP:20260421T103153
CREATED:20210929T132850Z
LAST-MODIFIED:20210929T134340Z
UID:1783-1633982400-1633986000@voxfeminae.is
SUMMARY:Pláneturnar - æfing
DESCRIPTION:Æfing fyrir Pláneturnar með Sinfó sem verða í Hörpu í vor \nKlukkan 20:00 í Domus Vox \n 
URL:https://voxfeminae.is/event/aefing-fyrir-planeturnar-med-sinfo/
LOCATION:Domus Vox\, Laugavegi 116\, Reykjavík
CATEGORIES:Æfing
END:VEVENT
BEGIN:VEVENT
DTSTART;TZID=UTC:20211006T183000
DTEND;TZID=UTC:20211006T200000
DTSTAMP:20260421T103153
CREATED:20210914T214113Z
LAST-MODIFIED:20211005T125412Z
UID:1752-1633545000-1633550400@voxfeminae.is
SUMMARY:Vinnustofa með Keith Reed
DESCRIPTION:Vinnustofa undir stjórn Keith Reed í húsnæði KFUM og KFUK að Holtavegi 28. \nTaka með sömu nótur  og síðast + 2 ný lög \n\nSálmur 2 (Um Kristi kvöl í grassgarðinum)\nKvölda tekur sest er sól\nLascinate mi morire – Monteverdi\nTundra – Gjelo\nAlta trinita beata\nMóðir mín í kví – útsetning Hrafnhildar
URL:https://voxfeminae.is/event/vinnustofa-med-keith-reed-3/
LOCATION:Holtavegur 28\, Reykjavík\, Iceland
CATEGORIES:Æfing
END:VEVENT
BEGIN:VEVENT
DTSTART;TZID=UTC:20210929T183000
DTEND;TZID=UTC:20210929T200000
DTSTAMP:20260421T103153
CREATED:20210914T213957Z
LAST-MODIFIED:20210914T213957Z
UID:1749-1632940200-1632945600@voxfeminae.is
SUMMARY:Vinnustofa með Keith Reed
DESCRIPTION:Vinnustofa undir stjórn Keith Reed í húsnæði KFUM og KFUK að Holtavegi 28.
URL:https://voxfeminae.is/event/vinnustofa-med-keith-reed-2/
LOCATION:Holtavegur 28\, Reykjavík\, Iceland
CATEGORIES:Æfing
END:VEVENT
BEGIN:VEVENT
DTSTART;TZID=UTC:20210925T100000
DTEND;TZID=UTC:20210925T130000
DTSTAMP:20260421T103153
CREATED:20210914T214908Z
LAST-MODIFIED:20210929T134506Z
UID:1767-1632564000-1632574800@voxfeminae.is
SUMMARY:Pláneturnar - æfing
DESCRIPTION:Fyrsta æfing á Plánetunum undir stjórn Möggu Pálma. \n10-11 í Domus Vox \n  \nÆfingar fyrir Pláneturnar með Sinfó sem verða í Hörpu í vor
URL:https://voxfeminae.is/event/aefing-fyrir-planeturnar-med-sinfo-nakvaem-timasetning-verdur-kynnt-sidar/
LOCATION:Domus Vox\, Laugavegi 116\, Reykjavík
CATEGORIES:Æfing
END:VEVENT
BEGIN:VEVENT
DTSTART;TZID=UTC:20210922T183000
DTEND;TZID=UTC:20210922T200000
DTSTAMP:20260421T103153
CREATED:20210914T213732Z
LAST-MODIFIED:20210914T213856Z
UID:1745-1632335400-1632340800@voxfeminae.is
SUMMARY:Vinnustofa með Keith Reed
DESCRIPTION:Vinnustofa undir stjórn Keith Reed í húsnæði KFUM og KFUK að Holtavegi 28.
URL:https://voxfeminae.is/event/vinnustofa-med-keith-reed/
LOCATION:Holtavegur 28\, Reykjavík\, Iceland
CATEGORIES:Æfing
END:VEVENT
BEGIN:VEVENT
DTSTART;TZID=UTC:20210616T171500
DTEND;TZID=UTC:20210616T190000
DTSTAMP:20260421T103153
CREATED:20210616T150519Z
LAST-MODIFIED:20210616T150558Z
UID:1715-1623863700-1623870000@voxfeminae.is
SUMMARY:Æfing fyrir gigg 17. júní og messu 20. júní
DESCRIPTION:Lagalistinn:\nUndir bláum sólarsali\nHver á sér fegra föðurland (öll erindin)\nVísur Vatnsenda-Rósu\nGóð börn og vond\nVikivaki\n\nÁ æfingunni mun Hildigunnur líka renna yfir lögin tvö sem verða sungin í Hallgrímskirkju 20 jún. Máríuvers og Ave María Eyþor Stef. Úr fjólubláu bókinni. Nú eru 17 skráðar í messuna.
URL:https://voxfeminae.is/event/aefing-fyrir-gigg-17-juni-og-messu-20-juni/
LOCATION:Domus Vox\, Laugavegi 116\, Reykjavík
CATEGORIES:Æfing
ORGANIZER;CN="Vox feminae":MAILTO:voxfeminae@voxfeminae.is
END:VEVENT
BEGIN:VEVENT
DTSTART;TZID=UTC:20210407T191500
DTEND;TZID=UTC:20210407T203000
DTSTAMP:20260421T103153
CREATED:20210407T125501Z
LAST-MODIFIED:20210407T164028Z
UID:1692-1617822900-1617827400@voxfeminae.is
SUMMARY:Æfing á Zoom - allar
DESCRIPTION:https://us02web.zoom.us/j/82707168918…\nMeeting ID: 827 0716 8918\nPasscode: 718194\n\n\nOh Music\nMúsíkulof\nAlta trinita\nAn die Musik\nLux Aeterna\nKvölda tekur\nSofðu rótt (norskt þjóðlag)\nVið gengum tvö\nLitli tónlistarmaðurinn\nMalaika
URL:https://voxfeminae.is/event/aefing-allar-a-zoom/
LOCATION:Á Zoom
CATEGORIES:Æfing
ORGANIZER;CN="Vox feminae":MAILTO:voxfeminae@voxfeminae.is
END:VEVENT
BEGIN:VEVENT
DTSTART;TZID=UTC:20210407T183000
DTEND;TZID=UTC:20210407T191500
DTSTAMP:20260421T103153
CREATED:20210407T125421Z
LAST-MODIFIED:20210407T163927Z
UID:1689-1617820200-1617822900@voxfeminae.is
SUMMARY:Æfing á Zoom - Búbla 1
DESCRIPTION:https://us02web.zoom.us/j/84159262421…\nMeeting ID: 841 5926 2421\nPasscode: 390696
URL:https://voxfeminae.is/event/aefing-bubla-1/
LOCATION:Á Zoom
CATEGORIES:Æfing
ORGANIZER;CN="Vox feminae":MAILTO:voxfeminae@voxfeminae.is
END:VEVENT
BEGIN:VEVENT
DTSTART;TZID=UTC:20210324T191500
DTEND;TZID=UTC:20210324T203000
DTSTAMP:20260421T103153
CREATED:20210324T152949Z
LAST-MODIFIED:20210324T152949Z
UID:1672-1616613300-1616617800@voxfeminae.is
SUMMARY:Æfing á Zoom - allar
DESCRIPTION:og svo allar kl 19:15\n\n\n\nhttps://us02web.zoom.us/j/89102097662?pwd=SHg3cjJEbDNMZzhlMmZQeU04Wlp6QT09\n\n\nMeeting ID: 891 0209 7662\nPasscode: 731183\n\n\n\n\n \nOg hér er lagalisti:\n \n\n\nOh Music (verð með nótur sem ég deili með ykkur á skjánum) \nMúsíkulof \nAlta trinita \nAn die Musik \nLux Aeterna \nKvölda tekur \nSofðu rótt (norskt þjóðlag) \nVið gengum tvö \nLitli tónlistarmaðurinn \nMalaika
URL:https://voxfeminae.is/event/aefing-a-zoom-allar/
LOCATION:Á Zoom
CATEGORIES:Æfing
ORGANIZER;CN="Vox feminae":MAILTO:voxfeminae@voxfeminae.is
END:VEVENT
BEGIN:VEVENT
DTSTART;TZID=UTC:20210324T183000
DTEND;TZID=UTC:20210324T184500
DTSTAMP:20260421T103153
CREATED:20210324T152900Z
LAST-MODIFIED:20210324T153027Z
UID:1671-1616610600-1616611500@voxfeminae.is
SUMMARY:Æfing á Zoom - Búbla 3
DESCRIPTION:Vox Búbla 3 kl 18:30\n\n\n\nhttps://us02web.zoom.us/j/81241268678?pwd=aVpWaVE5TSt0WFdXNFcxbGloSUNEdz09\n\nMeeting ID: 812 4126 8678\n\nPasscode: 700272\n\n\n \n\n\n\n\n\n 
URL:https://voxfeminae.is/event/bubla-3-aefing-a-zoom/
LOCATION:Á Zoom
CATEGORIES:Æfing
ORGANIZER;CN="Vox feminae":MAILTO:voxfeminae@voxfeminae.is
END:VEVENT
BEGIN:VEVENT
DTSTART;TZID=UTC:20210317T191500
DTEND;TZID=UTC:20210317T203000
DTSTAMP:20260421T103153
CREATED:20210317T163300Z
LAST-MODIFIED:20210317T174123Z
UID:1643-1616008500-1616013000@voxfeminae.is
SUMMARY:Æfing í Domus Vox og á Zoom - allar
DESCRIPTION:kl 19:15 – 20:30 ALLUR kórinn (í DV og á ZOOM)\nkl 18:30 Búbla nr 2 byrjar á staðnum\n\n\n\nZoomið opnast kl 19:15\nJoin Zoom Meeting\nhttps://us02web.zoom.us/j/87998153631…\n\n\nMeeting ID: 879 9815 3631\nPasscode: 003794\n\n\n\nLagalistinn er eftirfarandi og við ætlum að leggja áherslu á Við gengum tvö og Lux aeterna á næstu æfingu.\n\nOh Music (VANTAR inn á Kirnu)\nMúsíkulof\nAlta trinita\nAn die Musik (VANTAR inn á Kirnu)\nLux Aeterna\nKvölda tekur\nVem kan segla\nSenn kemur vor (VANTAR inn á Kirnu)\nSofðu rótt (norskt þjóðlag)\nVið gengum tvö\nLitli tónlistarmaðurinn\nMalaika
URL:https://voxfeminae.is/event/aefing-i-domus-vox-og-a-zoom-allar/
LOCATION:Domus Vox\, Laugavegi 116\, Reykjavík
CATEGORIES:Æfing
ORGANIZER;CN="Vox feminae":MAILTO:voxfeminae@voxfeminae.is
END:VEVENT
BEGIN:VEVENT
DTSTART;TZID=UTC:20210317T183000
DTEND;TZID=UTC:20210317T191500
DTSTAMP:20260421T103153
CREATED:20210317T163412Z
LAST-MODIFIED:20210317T163412Z
UID:1646-1616005800-1616008500@voxfeminae.is
SUMMARY:Æfing í Domus Vox - Búbla 2
DESCRIPTION:kl 18:30 BÚBLA 2 (Vor í Vaglaskógi í Domus Vox)
URL:https://voxfeminae.is/event/aefing-i-domus-vox-bubla-2/
LOCATION:Domus Vox\, Laugavegi 116\, Reykjavík
CATEGORIES:Æfing
ORGANIZER;CN="Vox feminae":MAILTO:voxfeminae@voxfeminae.is
END:VEVENT
BEGIN:VEVENT
DTSTART;TZID=UTC:20210310T183000
DTEND;TZID=UTC:20210310T200000
DTSTAMP:20260421T103153
CREATED:20210310T174523Z
LAST-MODIFIED:20210310T174708Z
UID:1635-1615401000-1615406400@voxfeminae.is
SUMMARY:Æfing í Domus Vox og á Zoom
DESCRIPTION:Hér er ZOOM hlekkur fyrir þær sem verða heima í kvöld:\nhttps://us02web.zoom.us/j/89796747769…\nMeeting ID: 897 9674 7769\nPasscode: 699945\n\nSömu lög og síðast
URL:https://voxfeminae.is/event/aefing-i-vox-og-a-zoom/
LOCATION:Domus Vox\, Laugavegi 116\, Reykjavík
CATEGORIES:Æfing
ORGANIZER;CN="Vox feminae":MAILTO:voxfeminae@voxfeminae.is
END:VEVENT
BEGIN:VEVENT
DTSTART;TZID=UTC:20210303T183000
DTEND;TZID=UTC:20210303T200000
DTSTAMP:20260421T103153
CREATED:20210302T173912Z
LAST-MODIFIED:20210317T174021Z
UID:1619-1614796200-1614801600@voxfeminae.is
SUMMARY:Æfing í VOX og zoom - Óskalög
DESCRIPTION:Breytt skipulag!  Hrafnhildur lasin og í staðin verðum við með opna æfingu með hugleiðslu og óskalögum.  Jafnvel eldgos\, hver veit! \nÆfingin er fyrir allar búbblurnar (ekki bara 2 og 3 eins og áður var gert ráð fyrir) \n\nHér er slóðin á zoom fundinn í kvöld fyrir þær sem ekki komast.\nJoin Zoom Meeting\nhttps://us02web.zoom.us/j/87870442867…\n\n\nMeeting ID: 878 7044 2867\nPasscode: 160950
URL:https://voxfeminae.is/event/aefing-i-vox-bublur-2-og-3/
LOCATION:Domus Vox\, Laugavegi 116\, Reykjavík
CATEGORIES:Æfing
ORGANIZER;CN="Vox feminae":MAILTO:voxfeminae@voxfeminae.is
END:VEVENT
BEGIN:VEVENT
DTSTART;TZID=UTC:20210224T183000
DTEND;TZID=UTC:20210224T200000
DTSTAMP:20260421T103153
CREATED:20210212T215300Z
LAST-MODIFIED:20210224T181359Z
UID:1605-1614191400-1614196800@voxfeminae.is
SUMMARY:Æfing í Domus Vox og Zoom
DESCRIPTION:1 metra regla – pössum samt fjarlægðina og loftum vel. Ef þið viljið taka með ykkur kaffi eða te á brúsa er það velkomið\, höfum smá pásu.\n\n\n\nZOOM hlekkur hér:\nhttps://us02web.zoom.us/j/88616994094…\nMeeting ID: 886 1699 4094\nPasscode: 265842
URL:https://voxfeminae.is/event/aefing-i-domus-vox-og-zoom-2/
CATEGORIES:Æfing
END:VEVENT
BEGIN:VEVENT
DTSTART;TZID=UTC:20210217T183000
DTEND;TZID=UTC:20210217T214000
DTSTAMP:20260421T103153
CREATED:20210212T214534Z
LAST-MODIFIED:20210212T214719Z
UID:1600-1613586600-1613598000@voxfeminae.is
SUMMARY:Æfing í Domus Vox - Búbla 2 og 3
DESCRIPTION:BÚBLA 2 kl. 18:30\n\n\nLag: Vor í Vaglaskógi \n\nGuðrún Björk\nHafdís\nElfur\nSigga Sæ\nJóhanna M\nBrynja\nBjarnheiður\nÞorgerður\nHildur\nÁsdís\nHeiðrún\nBÚBLA 3 kl. 19:40 \nLag: Yndislegt líf \nGuðný\nLilja\nSigurbjörg\nLóa\nHulda\nSigrún J\nGunnhildur\nSigga Dóra\nÞórdís\nHildur Elín\nAnna Sigga\n\n\nTakið með ykkar búblulag og líka Kvölda tekur.\n\n\nHlakka til!
URL:https://voxfeminae.is/event/aefing-i-domus-vox-bubla-2-og-3/
CATEGORIES:Æfing
END:VEVENT
BEGIN:VEVENT
DTSTART;TZID=UTC:20210210T183000
DTEND;TZID=UTC:20210210T193000
DTSTAMP:20260421T103153
CREATED:20210210T142723Z
LAST-MODIFIED:20210210T142958Z
UID:1590-1612981800-1612985400@voxfeminae.is
SUMMARY:Æfing í Domus Vox og Zoom
DESCRIPTION:Við sjáumst annars hressar í DV í kvöld (þ.e. þær sem hafa merkt við sig á FB)\, höfum grímurnar á okkur og tökum þær niður þegar við syngjum. Pössum að halda fjarlægð og opnum vel glugga. \nHér er zoom-hlekkur fyrir þær sem verða heima\nhttps://us02web.zoom.us/j/87944146180… \nHafið eftirfarandi nótur meðferðis: \nKvölda tekur (Hildigunnur Rúnars)\nAlta trinita\nVið gengum tvö\nHlakka til að sjá ykkur og syngja!
URL:https://voxfeminae.is/event/aefing-i-domus-vox-og-zoom/
LOCATION:Domus Vox\, Laugavegi 116\, Reykjavík
CATEGORIES:Æfing
ORGANIZER;CN="Vox feminae":MAILTO:voxfeminae@voxfeminae.is
END:VEVENT
BEGIN:VEVENT
DTSTART;TZID=UTC:20210203T183000
DTEND;TZID=UTC:20210203T204000
DTSTAMP:20260421T103153
CREATED:20210201T163052Z
LAST-MODIFIED:20210210T142755Z
UID:1561-1612377000-1612384800@voxfeminae.is
SUMMARY:Æfing í Domus Vox - Búbla 3 og 1
DESCRIPTION:Búblur 3 og 1 mæta í Domus Vox í dag. \nBúbla 3 mætir kl. 18:30. \nLag: Yndislegt líf \nGuðný\nLilja\nSigurbjörg\nLóa\nHulda\nSigrún J\nGunnhildur\nSigga Dóra\nÞórdís\nHildur Elín\nAnna Sigga\n\n\nBúbla 1 mætir kl. 19:40.\n\n\nLag: Pabbi minn\n\nNanna\nGuðrún Hulda\nStella Óla\nAnna Birgitta\nSigrún Kristjáns\nKatrín\nSirrý\nArndís\nStína\nHallveig\n\n\n\n\nTakið með ykkar lag (Yndislegt líf/Pabbi minn).\nMætið með grímur\, sem þið takið af meðan við syngjum. \nNóg pláss\, engin pása.
URL:https://voxfeminae.is/event/aefing-i-domus-vox-bubla-3/
CATEGORIES:Æfing
ORGANIZER;CN="Vox feminae":MAILTO:voxfeminae@voxfeminae.is
END:VEVENT
BEGIN:VEVENT
DTSTART;TZID=UTC:20210127T183000
DTEND;TZID=UTC:20210127T200000
DTSTAMP:20260421T103153
CREATED:20210112T163006Z
LAST-MODIFIED:20210127T161651Z
UID:1468-1611772200-1611777600@voxfeminae.is
SUMMARY:Fræðsla á Zoom
DESCRIPTION:27. janúar \nHér er ZOOM hlekkur fyrir fræðsluna í kvöld kl 18:30. \nhttps://us02web.zoom.us/j/83301873606…\nMeeting ID: 833 0187 3606\nPasscode: 569549 \nÉg ætla að taka þetta upp svo þið getið horft á síðar (nú eða aftur og aftur).\nHafið endilega blað og blýant við höndina ef þið viljið glósa eða skrifa hjá ykkur spurningar.\nVið förum í eftirfarandi og sjáum hvað við komumst langt.\nSöngtækni / Kórtækni\nGrunnur í tónfræði\nNótnalestur\nTónbil
URL:https://voxfeminae.is/event/fraedsla-a-zoom/
LOCATION:Á Zoom
CATEGORIES:Æfing
ORGANIZER;CN="Vox feminae":MAILTO:voxfeminae@voxfeminae.is
END:VEVENT
BEGIN:VEVENT
DTSTART;TZID=UTC:20210120T194000
DTEND;TZID=UTC:20210120T204000
DTSTAMP:20260421T103153
CREATED:20210120T144325Z
LAST-MODIFIED:20210120T145023Z
UID:1500-1611171600-1611175200@voxfeminae.is
SUMMARY:Æfing í Domus Vox - Búbla 2
DESCRIPTION:BÚBLA nr 2 kemur kl 19:40  (Búbla 3 er í frí)\n\nLag: Vor í Vaglaskógi\nGuðrún Björk\nHafdís\nElfur\nSigga Sæ\nJóhanna M\nBrynja\nBjarnheiður\nÞorgerður\nHildur\nÁsdís\nHeiðrún\n\n\nTakið með ykkar lag (Pabbi minn/Vor í Vaglaskógi) og vinsamlegast líka Kvölda tekur hennar Hildigunnar.\n\nHittumst í Domus Vox\, mætið með grímur\, sem þið takið af meðan við syngjum. Nóg pláss\, engin pása
URL:https://voxfeminae.is/event/1500/
LOCATION:Domus Vox\, Laugavegi 116\, Reykjavík
CATEGORIES:Æfing
ORGANIZER;CN="Vox feminae":MAILTO:voxfeminae@voxfeminae.is
END:VEVENT
BEGIN:VEVENT
DTSTART;TZID=UTC:20210120T183000
DTEND;TZID=UTC:20210120T193000
DTSTAMP:20260421T103153
CREATED:20210112T162519Z
LAST-MODIFIED:20210120T145056Z
UID:1464-1611167400-1611171000@voxfeminae.is
SUMMARY:Æfing í Domus Vox - Búbla 1
DESCRIPTION:BÚBLA nr 1 kemur kl 18:30 (Búbla 3 er í frí)\n\nLag: Pabbi minn\nNanna\nGuðrún Hulda\nStella Óla\nAnna Birgitta\nSigrún Kristjáns\nKatrín\nSirrý\nArndís\nStína\nHallveig\n\n\nTakið með ykkar lag (Pabbi minn/Vor í Vaglaskógi) og vinsamlegast líka Kvölda tekur hennar Hildigunnar.\nHittumst í Domus Vox\, mætið með grímur\, sem þið takið af meðan við syngjum. Nóg pláss\, engin pása.
URL:https://voxfeminae.is/event/aefing-i-domus-vox-bubblur-1-og-2/
LOCATION:Domus Vox\, Laugavegi 116\, Reykjavík
CATEGORIES:Æfing
END:VEVENT
BEGIN:VEVENT
DTSTART;TZID=UTC:20210113T183000
DTEND;TZID=UTC:20210113T193000
DTSTAMP:20260421T103153
CREATED:20210112T161111Z
LAST-MODIFIED:20210120T145140Z
UID:1458-1610562600-1610566200@voxfeminae.is
SUMMARY:Æfing í Domus VOX og á Zoom
DESCRIPTION:Á miðvikudaginn 13. janúar verður fyrsta æfingin okkar.   Sumir í Vox aðrir á Zoom:\n\n\n\nZOOM fundarboð fyrir æfinguna:\n\n\nJoin Zoom Meeting\nhttps://us02web.zoom.us/j/86010546554…\n\n\nMeeting ID: 860 1054 6554\nPasscode: 811239\n\n\n\nLAGALISTI:\n\n\nMalaika\n\n\nLitli tónlistarmaðurinn\n\n\nVið gengum tvö\n\n\nVikivaki\n\n\nVem kan segla (gamla góða)\n\n\nOh music keðjusöngur\n\n\nKvölda tekur – Hildigunnur Rúnars
URL:https://voxfeminae.is/event/aefing-i-domus-vox-og-a-zoom/
LOCATION:Domus Vox\, Laugavegi 116\, Reykjavík
CATEGORIES:Æfing
ORGANIZER;CN="Vox feminae":MAILTO:voxfeminae@voxfeminae.is
END:VEVENT
END:VCALENDAR