BEGIN:VCALENDAR
VERSION:2.0
PRODID:-//VoxFeminae - ECPv6.14.2//NONSGML v1.0//EN
CALSCALE:GREGORIAN
METHOD:PUBLISH
X-ORIGINAL-URL:https://voxfeminae.is
X-WR-CALDESC:Events for VoxFeminae
REFRESH-INTERVAL;VALUE=DURATION:PT1H
X-Robots-Tag:noindex
X-PUBLISHED-TTL:PT1H
BEGIN:VTIMEZONE
TZID:UTC
BEGIN:STANDARD
TZOFFSETFROM:+0000
TZOFFSETTO:+0000
TZNAME:UTC
DTSTART:20220101T000000
END:STANDARD
END:VTIMEZONE
BEGIN:VEVENT
DTSTART;TZID=UTC:20220313T110000
DTEND;TZID=UTC:20220313T120000
DTSTAMP:20260423T072454
CREATED:20220302T142439Z
LAST-MODIFIED:20220302T143538Z
UID:1960-1647169200-1647172800@voxfeminae.is
SUMMARY:Messa í Hallgrímskirkju
DESCRIPTION:Vox feminae syngur í messu í Hallgrímskirkju. \nTímasetning á mætingu staðfest síðar
URL:https://voxfeminae.is/event/messa-i-hallgrimskirkju-2/
LOCATION:Hallgrímskirkja
CATEGORIES:Messa
ORGANIZER;CN="Vox feminae":MAILTO:voxfeminae@voxfeminae.is
END:VEVENT
END:VCALENDAR