BEGIN:VCALENDAR
VERSION:2.0
PRODID:-//VoxFeminae - ECPv6.14.2//NONSGML v1.0//EN
CALSCALE:GREGORIAN
METHOD:PUBLISH
X-ORIGINAL-URL:https://voxfeminae.is
X-WR-CALDESC:Events for VoxFeminae
REFRESH-INTERVAL;VALUE=DURATION:PT1H
X-Robots-Tag:noindex
X-PUBLISHED-TTL:PT1H
BEGIN:VTIMEZONE
TZID:UTC
BEGIN:STANDARD
TZOFFSETFROM:+0000
TZOFFSETTO:+0000
TZNAME:UTC
DTSTART:20210101T000000
END:STANDARD
END:VTIMEZONE
BEGIN:VEVENT
DTSTART;TZID=UTC:20210620T100000
DTEND;TZID=UTC:20210620T120000
DTSTAMP:20260423T232715
CREATED:20210616T151625Z
LAST-MODIFIED:20210616T151755Z
UID:1722-1624183200-1624190400@voxfeminae.is
SUMMARY:Messa í Hallgrímskirkju 20. júní
DESCRIPTION:20. júní mæting kl. 10 í Hallgrímskirkju:\nBjörn organisti mun leiða æfingu fyrir messuna. Eftirfarandi sálmar verð sungnir:\n\nSálmur 178 – Nú ljómar dýrðardagur\n\nKórsöngur – Ave María Eyþór Þorláksson (úr fjólubláu bókinni) \nSálmur 343 – Skín\, guðdóms sól\, á hugarhimni mínum \nKórsöngur – Máríuvers Páll Ísólfsson / Davíð Stefánsson (úr fjólubláu bókinni) \nSálmur 169 – Ljómi Guðs veru líður nú \n 
URL:https://voxfeminae.is/event/messa-i-hallgrimskirkju-20-juni/
LOCATION:Hallgrímskirkja
CATEGORIES:Messa
ORGANIZER;CN="Vox feminae":MAILTO:voxfeminae@voxfeminae.is
END:VEVENT
END:VCALENDAR